BEGIN:VCALENDAR
VERSION:2.0
PRODID:-//wp-events-plugin.com//7.0.4//EN
TZID:Europe/Berlin
X-WR-TIMEZONE:Europe/Berlin
BEGIN:VEVENT
UID:37@dickbusch.de
DTSTART;TZID=Europe/Berlin:20160428T180000
DTEND;TZID=Europe/Berlin:20160428T200000
DTSTAMP:20160406T144231Z
URL:https://www.dickbusch.de/events/informationsabend-kriminalpolizei-rhei
 n-erft
SUMMARY:Informationsabend Kriminalpolizei Rhein-Erft
DESCRIPTION:Informationsabend der Kriminalpolizei zur Sicherung von Häuser
 n mit Fragestunde für die Bürger
LOCATION:Maizelt\, An den Höfen\, Manheim-neu\, Deutschland
GEO:50.8689687;6.666190899999947
X-APPLE-STRUCTURED-LOCATION;VALUE=URI;X-ADDRESS=An den Höfen\, Manheim-neu
 \, Deutschland;X-APPLE-RADIUS=100;X-TITLE=Maizelt:geo:50.8689687,6.6661908
 99999947
END:VEVENT
BEGIN:VTIMEZONE
TZID:Europe/Berlin
X-LIC-LOCATION:Europe/Berlin
BEGIN:DAYLIGHT
DTSTART:20160327T030000
TZOFFSETFROM:+0100
TZOFFSETTO:+0200
TZNAME:CEST
END:DAYLIGHT
END:VTIMEZONE
END:VCALENDAR