BEGIN:VCALENDAR
VERSION:2.0
PRODID:-//wp-events-plugin.com//7.0.4//EN
TZID:Europe/Berlin
X-WR-TIMEZONE:Europe/Berlin
BEGIN:VEVENT
UID:38@dickbusch.de
DTSTART;TZID=Europe/Berlin:20160911T110000
DTEND;TZID=Europe/Berlin:20160911T150000
DTSTAMP:20160907T163326Z
URL:https://www.dickbusch.de/events/goennerfruehschoppen
SUMMARY:Gönnerfrühschoppen
DESCRIPTION:Am 11.09.16 findet an der Grillhütte in Manheim-Neu der "Gönn
 erfrühschoppen" in der jecken Zeit von 11.11 Uhr bis 15.11 Uhr statt.\n\n
 Eingeladen haben hierzu das erste Kinderprinzenpaar der kommenden Session 
 von Manheim-Neu - Annika und Julian - sowie Prinzenführerin Sofia.\n\nFü
 r das leibliche Wohl in jeglicher Form sowie für Unterhaltung für Groß 
 und Klein ist gesorgt.\n\nÜber zahlreiche Besucher würden sich alle Bete
 iligten sehr freuen\, damit diese tolle Tradition auch zukünftig weiterle
 ben kann\, gemäß dem Motto:\n\n"All zesamme em Konvoi\, fiere mir en Man
 nem-neu"
LOCATION:Grillhütte Manheim-neu\, Manheimer Ring\, Kerpen\, NRW\, 50171\, 
 Deutschland
GEO:50.86613395217255;6.656141986230523
X-APPLE-STRUCTURED-LOCATION;VALUE=URI;X-ADDRESS=Manheimer Ring\, Kerpen\, N
 RW\, 50171\, Deutschland;X-APPLE-RADIUS=100;X-TITLE=Grillhütte Manheim-ne
 u:geo:50.86613395217255,6.656141986230523
END:VEVENT
BEGIN:VTIMEZONE
TZID:Europe/Berlin
X-LIC-LOCATION:Europe/Berlin
BEGIN:DAYLIGHT
DTSTART:20160327T030000
TZOFFSETFROM:+0100
TZOFFSETTO:+0200
TZNAME:CEST
END:DAYLIGHT
END:VTIMEZONE
END:VCALENDAR